BEGIN:VCALENDAR
VERSION:2.0
PRODID: -//CMS 5.0 //NONSGML //DE
BEGIN:VEVENT
SUMMARY:Jugendgottesdienst
DESCRIPTION:Herr, hilf!\nVertrauen lernen.\nMt 8,25b.26\n\n9.00 Uhr geme
 insames Frühstück\n9.30 Uhr Jugendchor\n\n\nnach dem Gottesdienst:\nP
 robe für das Jugendkonzert &\n„Rester-Essen“\n\n\n\nhttps://bezirk
 -chemnitz.nak-nordost.de/db/566730
UID:566730@bezirk-chemnitz.nak-nordost.de
LOCATION:Thomas Wetzke
CATEGORIES:Kirchenbezirk Chemnitz (Alle Gemeinden),Jugendgottesdienst,Kirchenbezirk Chemnitz,Gottesdienst,Jugend
X-ORGANIZER:
STATUS:CONFIRMED
CLASS:PUBLIC
DTSTART:20260419T090000Z
DTEND:20260419T101500Z
DTSTAMP:20260420T095704Z
CREATED:20251220T175341Z
LAST-MODIFIED:20260319T201324Z
BEGIN:VALARM
UID:48F3DB32-3C9F-11F1-B457-80F75229324C
TRIGGER:-PT60M
ACTION:DISPLAY
DESCRIPTION:SUMMARY:Jugendgottesdienst
END:VALARM
END:VEVENT
END:VCALENDAR
